BEGIN:VCALENDAR
VERSION:2.0
PRODID:-//South Woodford Village Gazette - ECPv6.15.20//NONSGML v1.0//EN
CALSCALE:GREGORIAN
METHOD:PUBLISH
X-ORIGINAL-URL:https://swvg.co.uk
X-WR-CALDESC:Events for South Woodford Village Gazette
REFRESH-INTERVAL;VALUE=DURATION:PT1H
X-Robots-Tag:noindex
X-PUBLISHED-TTL:PT1H
BEGIN:VTIMEZONE
TZID:Europe/London
BEGIN:DAYLIGHT
TZOFFSETFROM:+0000
TZOFFSETTO:+0100
TZNAME:BST
DTSTART:20240331T010000
END:DAYLIGHT
BEGIN:STANDARD
TZOFFSETFROM:+0100
TZOFFSETTO:+0000
TZNAME:GMT
DTSTART:20241027T010000
END:STANDARD
BEGIN:DAYLIGHT
TZOFFSETFROM:+0000
TZOFFSETTO:+0100
TZNAME:BST
DTSTART:20250330T010000
END:DAYLIGHT
BEGIN:STANDARD
TZOFFSETFROM:+0100
TZOFFSETTO:+0000
TZNAME:GMT
DTSTART:20251026T010000
END:STANDARD
BEGIN:DAYLIGHT
TZOFFSETFROM:+0000
TZOFFSETTO:+0100
TZNAME:BST
DTSTART:20260329T010000
END:DAYLIGHT
BEGIN:STANDARD
TZOFFSETFROM:+0100
TZOFFSETTO:+0000
TZNAME:GMT
DTSTART:20261025T010000
END:STANDARD
END:VTIMEZONE
BEGIN:VEVENT
DTSTART;TZID=Europe/London:20250604T100000
DTEND;TZID=Europe/London:20250629T160000
DTSTAMP:20260424T210852
CREATED:20250529T134434Z
LAST-MODIFIED:20250529T134434Z
UID:12438-1749031200-1751212800@swvg.co.uk
SUMMARY:Woodford Arts Group’s summer exhibition
DESCRIPTION:Entitled All Nature Has Feeling\, this exhibition by local artists is inspired by and on show in Epping Forest. Closed on Mondays.
URL:https://swvg.co.uk/event/woodford-arts-groups-summer-exhibition/
LOCATION:The View\, Chingford\, E4 7QH
END:VEVENT
BEGIN:VEVENT
DTSTART;TZID=Europe/London:20250614T120000
DTEND;TZID=Europe/London:20250615T170000
DTSTAMP:20260424T210852
CREATED:20250529T134558Z
LAST-MODIFIED:20250529T134558Z
UID:12463-1749902400-1750006800@swvg.co.uk
SUMMARY:Open Weekend at The Temple in Wanstead Park
DESCRIPTION:Wanstead Park’s visitor centre explores the history of the park from Roman times to the present day.
URL:https://swvg.co.uk/event/open-weekend-at-the-temple-in-wanstead-park-7/
LOCATION:the Temple\, Wanstead Park\, E11 2LT
END:VEVENT
BEGIN:VEVENT
DTSTART;TZID=Europe/London:20250615T100000
DTEND;TZID=Europe/London:20250615T170000
DTSTAMP:20260424T210852
CREATED:20250529T134613Z
LAST-MODIFIED:20250529T134613Z
UID:12467-1749981600-1750006800@swvg.co.uk
SUMMARY:Wanstead Park to Hyde Park bike ride
DESCRIPTION:A 30 mile ride into Central London completing a circuit of Hyde Park. Organised by the Redbridge Cycling Campaign.
URL:https://swvg.co.uk/event/wanstead-park-to-hyde-park-bike-ride/
LOCATION:meet at Wanstead Park Tea Hut\, E12 5HA
END:VEVENT
BEGIN:VEVENT
DTSTART;TZID=Europe/London:20250615T110000
DTEND;TZID=Europe/London:20250615T160000
DTSTAMP:20260424T210852
CREATED:20250529T134613Z
LAST-MODIFIED:20250529T134613Z
UID:12469-1749985200-1750003200@swvg.co.uk
SUMMARY:ARTISTS’ STUDIO SALE (ART GROUP WANSTEAD)
DESCRIPTION:Buy artwork directly from artists. Plus\, a variety of art and craft materials\, bead and jewellery stalls. In the event of bad weather\, the event will be moved to 22 June.
URL:https://swvg.co.uk/event/artists-studio-sale-art-group-wanstead/
LOCATION:The Limes\, High Road\, E18 2QW
END:VEVENT
BEGIN:VEVENT
DTSTART;TZID=Europe/London:20250615T110000
DTEND;TZID=Europe/London:20250615T170000
DTSTAMP:20260424T210852
CREATED:20250529T134613Z
LAST-MODIFIED:20250529T134613Z
UID:12468-1749985200-1750006800@swvg.co.uk
SUMMARY:South Woodford Community Market
DESCRIPTION:
URL:https://swvg.co.uk/event/south-woodford-community-market-9/
LOCATION:George Lane\, South Woodford
END:VEVENT
END:VCALENDAR