BEGIN:VCALENDAR
VERSION:2.0
PRODID:-//South Woodford Village Gazette - ECPv6.15.20//NONSGML v1.0//EN
CALSCALE:GREGORIAN
METHOD:PUBLISH
X-ORIGINAL-URL:https://swvg.co.uk
X-WR-CALDESC:Events for South Woodford Village Gazette
REFRESH-INTERVAL;VALUE=DURATION:PT1H
X-Robots-Tag:noindex
X-PUBLISHED-TTL:PT1H
BEGIN:VTIMEZONE
TZID:Europe/London
BEGIN:DAYLIGHT
TZOFFSETFROM:+0000
TZOFFSETTO:+0100
TZNAME:BST
DTSTART:20240331T010000
END:DAYLIGHT
BEGIN:STANDARD
TZOFFSETFROM:+0100
TZOFFSETTO:+0000
TZNAME:GMT
DTSTART:20241027T010000
END:STANDARD
BEGIN:DAYLIGHT
TZOFFSETFROM:+0000
TZOFFSETTO:+0100
TZNAME:BST
DTSTART:20250330T010000
END:DAYLIGHT
BEGIN:STANDARD
TZOFFSETFROM:+0100
TZOFFSETTO:+0000
TZNAME:GMT
DTSTART:20251026T010000
END:STANDARD
BEGIN:DAYLIGHT
TZOFFSETFROM:+0000
TZOFFSETTO:+0100
TZNAME:BST
DTSTART:20260329T010000
END:DAYLIGHT
BEGIN:STANDARD
TZOFFSETFROM:+0100
TZOFFSETTO:+0000
TZNAME:GMT
DTSTART:20261025T010000
END:STANDARD
END:VTIMEZONE
BEGIN:VEVENT
DTSTART;TZID=Europe/London:20250601T093000
DTEND;TZID=Europe/London:20250601T150000
DTSTAMP:20260424T171141
CREATED:20250529T134433Z
LAST-MODIFIED:20250529T134433Z
UID:12430-1748770200-1748790000@swvg.co.uk
SUMMARY:River Roding guided walk: Debden to Wanstead
DESCRIPTION:Join the River Roding Trust on a guided walk along the Debden to Wanstead section of London’s third longest river.
URL:https://swvg.co.uk/event/river-roding-guided-walk-debden-to-wanstead/
LOCATION:meet at Debden station
END:VEVENT
BEGIN:VEVENT
DTSTART;TZID=Europe/London:20250601T100000
DTEND;TZID=Europe/London:20250601T160000
DTSTAMP:20260424T171141
CREATED:20250529T134433Z
LAST-MODIFIED:20250529T134433Z
UID:12431-1748772000-1748793600@swvg.co.uk
SUMMARY:Wanstead Community Market
DESCRIPTION:Monthly market offering a wide range of food and craft products.
URL:https://swvg.co.uk/event/wanstead-community-market-12/
LOCATION:Wanstead High Street
END:VEVENT
BEGIN:VEVENT
DTSTART;TZID=Europe/London:20250601T140000
DTEND;TZID=Europe/London:20250601T153000
DTSTAMP:20260424T171141
CREATED:20250529T134433Z
LAST-MODIFIED:20250529T134433Z
UID:12432-1748786400-1748791800@swvg.co.uk
SUMMARY:Nature-Based Memory Café
DESCRIPTION:Providing hands-on access to nature items\, story-gathering and singing for those living with dementia and their carers.
URL:https://swvg.co.uk/event/nature-based-memory-cafe/
LOCATION:St Mary’s Church\, South Woodford
END:VEVENT
END:VCALENDAR