BEGIN:VCALENDAR
VERSION:2.0
PRODID:-//South Woodford Village Gazette - ECPv6.15.20//NONSGML v1.0//EN
CALSCALE:GREGORIAN
METHOD:PUBLISH
X-ORIGINAL-URL:https://swvg.co.uk
X-WR-CALDESC:Events for South Woodford Village Gazette
REFRESH-INTERVAL;VALUE=DURATION:PT1H
X-Robots-Tag:noindex
X-PUBLISHED-TTL:PT1H
BEGIN:VTIMEZONE
TZID:Europe/London
BEGIN:DAYLIGHT
TZOFFSETFROM:+0000
TZOFFSETTO:+0100
TZNAME:BST
DTSTART:20240331T010000
END:DAYLIGHT
BEGIN:STANDARD
TZOFFSETFROM:+0100
TZOFFSETTO:+0000
TZNAME:GMT
DTSTART:20241027T010000
END:STANDARD
BEGIN:DAYLIGHT
TZOFFSETFROM:+0000
TZOFFSETTO:+0100
TZNAME:BST
DTSTART:20250330T010000
END:DAYLIGHT
BEGIN:STANDARD
TZOFFSETFROM:+0100
TZOFFSETTO:+0000
TZNAME:GMT
DTSTART:20251026T010000
END:STANDARD
BEGIN:DAYLIGHT
TZOFFSETFROM:+0000
TZOFFSETTO:+0100
TZNAME:BST
DTSTART:20260329T010000
END:DAYLIGHT
BEGIN:STANDARD
TZOFFSETFROM:+0100
TZOFFSETTO:+0000
TZNAME:GMT
DTSTART:20261025T010000
END:STANDARD
END:VTIMEZONE
BEGIN:VEVENT
DTSTART;TZID=Europe/London:20250515T193000
DTEND;TZID=Europe/London:20250517T213000
DTSTAMP:20260424T171223
CREATED:20250429T150423Z
LAST-MODIFIED:20250429T150423Z
UID:12286-1747337400-1747517400@swvg.co.uk
SUMMARY:IODS Presents: Company
DESCRIPTION:A production of Stephen Sondheim’s ground-breaking modern musical.
URL:https://swvg.co.uk/event/iods-presents-company/
LOCATION:Redbridge Drama Centre\, E18 2RB
END:VEVENT
BEGIN:VEVENT
DTSTART;TZID=Europe/London:20250516T140000
DTEND;TZID=Europe/London:20250516T153000
DTSTAMP:20260424T171223
CREATED:20250429T150424Z
LAST-MODIFIED:20250429T150424Z
UID:12287-1747404000-1747409400@swvg.co.uk
SUMMARY:Understanding Grief Talk
DESCRIPTION:Suitable for those grieving and anyone who wants to increase their understanding of grief and how they can compassionately support others.
URL:https://swvg.co.uk/event/understanding-grief-talk/
LOCATION:Whipps Cross Hospital\, E11 1NR
END:VEVENT
END:VCALENDAR