BEGIN:VCALENDAR
VERSION:2.0
PRODID:-//South Woodford Village Gazette - ECPv6.15.20//NONSGML v1.0//EN
CALSCALE:GREGORIAN
METHOD:PUBLISH
X-ORIGINAL-URL:https://swvg.co.uk
X-WR-CALDESC:Events for South Woodford Village Gazette
REFRESH-INTERVAL;VALUE=DURATION:PT1H
X-Robots-Tag:noindex
X-PUBLISHED-TTL:PT1H
BEGIN:VTIMEZONE
TZID:Europe/London
BEGIN:DAYLIGHT
TZOFFSETFROM:+0000
TZOFFSETTO:+0100
TZNAME:BST
DTSTART:20240331T010000
END:DAYLIGHT
BEGIN:STANDARD
TZOFFSETFROM:+0100
TZOFFSETTO:+0000
TZNAME:GMT
DTSTART:20241027T010000
END:STANDARD
BEGIN:DAYLIGHT
TZOFFSETFROM:+0000
TZOFFSETTO:+0100
TZNAME:BST
DTSTART:20250330T010000
END:DAYLIGHT
BEGIN:STANDARD
TZOFFSETFROM:+0100
TZOFFSETTO:+0000
TZNAME:GMT
DTSTART:20251026T010000
END:STANDARD
BEGIN:DAYLIGHT
TZOFFSETFROM:+0000
TZOFFSETTO:+0100
TZNAME:BST
DTSTART:20260329T010000
END:DAYLIGHT
BEGIN:STANDARD
TZOFFSETFROM:+0100
TZOFFSETTO:+0000
TZNAME:GMT
DTSTART:20261025T010000
END:STANDARD
END:VTIMEZONE
BEGIN:VEVENT
DTSTART;TZID=Europe/London:20250515T100000
DTEND;TZID=Europe/London:20250515T100000
DTSTAMP:20260424T171348
CREATED:20250429T150423Z
LAST-MODIFIED:20250429T150423Z
UID:12284-1747303200-1747303200@swvg.co.uk
SUMMARY:The Veterans RVP Drop-In and Chat
DESCRIPTION:A monthly opportunity for veterans and their person of significance to come together\, share experiences and be supported at Wanstead Mental Health Clinic.
URL:https://swvg.co.uk/event/the-veterans-rvp-drop-in-and-chat-2/
LOCATION:11–13 Cambridge Park\, Wanstead\, E11 2PU
END:VEVENT
BEGIN:VEVENT
DTSTART;TZID=Europe/London:20250515T183000
DTEND;TZID=Europe/London:20250515T203000
DTSTAMP:20260424T171348
CREATED:20250429T150423Z
LAST-MODIFIED:20250429T150423Z
UID:12285-1747333800-1747341000@swvg.co.uk
SUMMARY:Wanstead Library Grief Cafe
DESCRIPTION:A safe and confidential space to meet others and to share thoughts and feelings around the experience of grief and loss.
URL:https://swvg.co.uk/event/wanstead-library-grief-cafe-10/
LOCATION:Wanstead Library\, Spratt Hall Road
END:VEVENT
BEGIN:VEVENT
DTSTART;TZID=Europe/London:20250515T193000
DTEND;TZID=Europe/London:20250517T213000
DTSTAMP:20260424T171348
CREATED:20250429T150423Z
LAST-MODIFIED:20250429T150423Z
UID:12286-1747337400-1747517400@swvg.co.uk
SUMMARY:IODS Presents: Company
DESCRIPTION:A production of Stephen Sondheim’s ground-breaking modern musical.
URL:https://swvg.co.uk/event/iods-presents-company/
LOCATION:Redbridge Drama Centre\, E18 2RB
END:VEVENT
END:VCALENDAR