BEGIN:VCALENDAR
VERSION:2.0
PRODID:-//South Woodford Village Gazette - ECPv6.15.20//NONSGML v1.0//EN
CALSCALE:GREGORIAN
METHOD:PUBLISH
X-ORIGINAL-URL:https://swvg.co.uk
X-WR-CALDESC:Events for South Woodford Village Gazette
REFRESH-INTERVAL;VALUE=DURATION:PT1H
X-Robots-Tag:noindex
X-PUBLISHED-TTL:PT1H
BEGIN:VTIMEZONE
TZID:Europe/London
BEGIN:DAYLIGHT
TZOFFSETFROM:+0000
TZOFFSETTO:+0100
TZNAME:BST
DTSTART:20240331T010000
END:DAYLIGHT
BEGIN:STANDARD
TZOFFSETFROM:+0100
TZOFFSETTO:+0000
TZNAME:GMT
DTSTART:20241027T010000
END:STANDARD
BEGIN:DAYLIGHT
TZOFFSETFROM:+0000
TZOFFSETTO:+0100
TZNAME:BST
DTSTART:20250330T010000
END:DAYLIGHT
BEGIN:STANDARD
TZOFFSETFROM:+0100
TZOFFSETTO:+0000
TZNAME:GMT
DTSTART:20251026T010000
END:STANDARD
BEGIN:DAYLIGHT
TZOFFSETFROM:+0000
TZOFFSETTO:+0100
TZNAME:BST
DTSTART:20260329T010000
END:DAYLIGHT
BEGIN:STANDARD
TZOFFSETFROM:+0100
TZOFFSETTO:+0000
TZNAME:GMT
DTSTART:20261025T010000
END:STANDARD
END:VTIMEZONE
BEGIN:VEVENT
DTSTART;TZID=Europe/London:20250429T170000
DTEND;TZID=Europe/London:20250429T183000
DTSTAMP:20260424T171142
CREATED:20250328T110557Z
LAST-MODIFIED:20250328T110557Z
UID:12196-1745946000-1745951400@swvg.co.uk
SUMMARY:South Woodford Business Networking Event
DESCRIPTION:An evening of networking for local businesses. Booking required.
URL:https://swvg.co.uk/event/south-woodford-business-networking-event-3/
LOCATION:Starbucks\, 105 George Lane\, South Woodford
END:VEVENT
BEGIN:VEVENT
DTSTART;TZID=Europe/London:20250429T173000
DTEND;TZID=Europe/London:20250429T190000
DTSTAMP:20260424T171142
CREATED:20250328T110557Z
LAST-MODIFIED:20250328T110557Z
UID:12197-1745947800-1745953200@swvg.co.uk
SUMMARY:Open Table at Holy Trinity Church
DESCRIPTION:Join a community meal open to all. Main meal provided. Bring dessert to share or a contribution to Redbridge Foodbank. Children and families welcome. No alcohol. No need to book.
URL:https://swvg.co.uk/event/open-table-at-holy-trinity-church-3/
LOCATION:Holy Trinity Church\, Hermon Hill\, E18 1QQ
END:VEVENT
BEGIN:VEVENT
DTSTART;TZID=Europe/London:20250429T193000
DTEND;TZID=Europe/London:20250429T193000
DTSTAMP:20260424T171142
CREATED:20250328T110758Z
LAST-MODIFIED:20250328T110758Z
UID:12198-1745955000-1745955000@swvg.co.uk
SUMMARY:Friends of Wanstead Parklands AGM
DESCRIPTION:Featuring guest speaker Paul Powlesland\, chair of the River Roding Trust. Visitors welcome.
URL:https://swvg.co.uk/event/friends-of-wanstead-parklands-agm/
LOCATION:Wanstead Golf Club\, Overton Drive
END:VEVENT
END:VCALENDAR