BEGIN:VCALENDAR
VERSION:2.0
PRODID:-//South Woodford Village Gazette - ECPv6.15.20//NONSGML v1.0//EN
CALSCALE:GREGORIAN
METHOD:PUBLISH
X-ORIGINAL-URL:https://swvg.co.uk
X-WR-CALDESC:Events for South Woodford Village Gazette
REFRESH-INTERVAL;VALUE=DURATION:PT1H
X-Robots-Tag:noindex
X-PUBLISHED-TTL:PT1H
BEGIN:VTIMEZONE
TZID:Europe/London
BEGIN:DAYLIGHT
TZOFFSETFROM:+0000
TZOFFSETTO:+0100
TZNAME:BST
DTSTART:20240331T010000
END:DAYLIGHT
BEGIN:STANDARD
TZOFFSETFROM:+0100
TZOFFSETTO:+0000
TZNAME:GMT
DTSTART:20241027T010000
END:STANDARD
BEGIN:DAYLIGHT
TZOFFSETFROM:+0000
TZOFFSETTO:+0100
TZNAME:BST
DTSTART:20250330T010000
END:DAYLIGHT
BEGIN:STANDARD
TZOFFSETFROM:+0100
TZOFFSETTO:+0000
TZNAME:GMT
DTSTART:20251026T010000
END:STANDARD
BEGIN:DAYLIGHT
TZOFFSETFROM:+0000
TZOFFSETTO:+0100
TZNAME:BST
DTSTART:20260329T010000
END:DAYLIGHT
BEGIN:STANDARD
TZOFFSETFROM:+0100
TZOFFSETTO:+0000
TZNAME:GMT
DTSTART:20261025T010000
END:STANDARD
END:VTIMEZONE
BEGIN:VEVENT
DTSTART;TZID=Europe/London:20250415T193000
DTEND;TZID=Europe/London:20250420T000000
DTSTAMP:20260424T210836
CREATED:20250328T105938Z
LAST-MODIFIED:20250328T105938Z
UID:12176-1744745400-1745107200@swvg.co.uk
SUMMARY:Wanstead Theatre at The Bull
DESCRIPTION:Poetic Justice Productions presents the thriller Isosceles by Lorraine Forrest-Turner\, featuring local actor Ashley Gunstock.
URL:https://swvg.co.uk/event/wanstead-theatre-at-the-bull/
LOCATION:The Bull\, 129 High Street\, E11 2RL
END:VEVENT
END:VCALENDAR