BEGIN:VCALENDAR
VERSION:2.0
PRODID:-//South Woodford Village Gazette - ECPv6.15.20//NONSGML v1.0//EN
CALSCALE:GREGORIAN
METHOD:PUBLISH
X-WR-CALNAME:South Woodford Village Gazette
X-ORIGINAL-URL:https://swvg.co.uk
X-WR-CALDESC:Events for South Woodford Village Gazette
REFRESH-INTERVAL;VALUE=DURATION:PT1H
X-Robots-Tag:noindex
X-PUBLISHED-TTL:PT1H
BEGIN:VTIMEZONE
TZID:Europe/London
BEGIN:DAYLIGHT
TZOFFSETFROM:+0000
TZOFFSETTO:+0100
TZNAME:BST
DTSTART:20240331T010000
END:DAYLIGHT
BEGIN:STANDARD
TZOFFSETFROM:+0100
TZOFFSETTO:+0000
TZNAME:GMT
DTSTART:20241027T010000
END:STANDARD
BEGIN:DAYLIGHT
TZOFFSETFROM:+0000
TZOFFSETTO:+0100
TZNAME:BST
DTSTART:20250330T010000
END:DAYLIGHT
BEGIN:STANDARD
TZOFFSETFROM:+0100
TZOFFSETTO:+0000
TZNAME:GMT
DTSTART:20251026T010000
END:STANDARD
BEGIN:DAYLIGHT
TZOFFSETFROM:+0000
TZOFFSETTO:+0100
TZNAME:BST
DTSTART:20260329T010000
END:DAYLIGHT
BEGIN:STANDARD
TZOFFSETFROM:+0100
TZOFFSETTO:+0000
TZNAME:GMT
DTSTART:20261025T010000
END:STANDARD
END:VTIMEZONE
BEGIN:VEVENT
DTSTART;TZID=Europe/London:20250415T193000
DTEND;TZID=Europe/London:20250420T000000
DTSTAMP:20260424T194334
CREATED:20250328T105938Z
LAST-MODIFIED:20250328T105938Z
UID:12176-1744745400-1745107200@swvg.co.uk
SUMMARY:Wanstead Theatre at The Bull
DESCRIPTION:Poetic Justice Productions presents the thriller Isosceles by Lorraine Forrest-Turner\, featuring local actor Ashley Gunstock.
URL:https://swvg.co.uk/event/wanstead-theatre-at-the-bull/
LOCATION:The Bull\, 129 High Street\, E11 2RL
END:VEVENT
BEGIN:VEVENT
DTSTART;TZID=Europe/London:20250417T100000
DTEND;TZID=Europe/London:20250417T100000
DTSTAMP:20260424T194334
CREATED:20250328T105954Z
LAST-MODIFIED:20250328T105954Z
UID:12180-1744884000-1744884000@swvg.co.uk
SUMMARY:The Veterans RVP Drop-In and Chat
DESCRIPTION:A monthly opportunity for veterans and their person of significance to come together\, share experiences and be supported at Wanstead Mental Health Clinic.
URL:https://swvg.co.uk/event/the-veterans-rvp-drop-in-and-chat/
LOCATION:11–13 Cambridge Park\, Wanstead\, E11 2PU
END:VEVENT
BEGIN:VEVENT
DTSTART;TZID=Europe/London:20250417T113000
DTEND;TZID=Europe/London:20250417T122000
DTSTAMP:20260424T194334
CREATED:20250328T105954Z
LAST-MODIFIED:20250328T105954Z
UID:12181-1744889400-1744892400@swvg.co.uk
SUMMARY:Puffling Percy
DESCRIPTION:An uplifting show for four- to 11-year-olds about friendship\, overcoming self-doubt and trusting your own instincts. Repeated at 2pm.
URL:https://swvg.co.uk/event/puffling-percy/
LOCATION:Redbridge Drama Centre\, E18 2RB
END:VEVENT
BEGIN:VEVENT
DTSTART;TZID=Europe/London:20250417T144500
DTEND;TZID=Europe/London:20250417T154500
DTSTAMP:20260424T194334
CREATED:20250328T105954Z
LAST-MODIFIED:20250328T105954Z
UID:12182-1744901100-1744904700@swvg.co.uk
SUMMARY:The Map Makers Workshop
DESCRIPTION:Invent a strange and wonderful world on a huge collaborative map with artist and storyteller Oliver Wallace. Suitable for six- to 11-year-olds.
URL:https://swvg.co.uk/event/the-map-makers-workshop/
LOCATION:Wanstead Library\, Spratt Hall Road
END:VEVENT
END:VCALENDAR