BEGIN:VCALENDAR
VERSION:2.0
PRODID:-//South Woodford Village Gazette - ECPv6.15.20//NONSGML v1.0//EN
CALSCALE:GREGORIAN
METHOD:PUBLISH
X-ORIGINAL-URL:https://swvg.co.uk
X-WR-CALDESC:Events for South Woodford Village Gazette
REFRESH-INTERVAL;VALUE=DURATION:PT1H
X-Robots-Tag:noindex
X-PUBLISHED-TTL:PT1H
BEGIN:VTIMEZONE
TZID:Europe/London
BEGIN:DAYLIGHT
TZOFFSETFROM:+0000
TZOFFSETTO:+0100
TZNAME:BST
DTSTART:20240331T010000
END:DAYLIGHT
BEGIN:STANDARD
TZOFFSETFROM:+0100
TZOFFSETTO:+0000
TZNAME:GMT
DTSTART:20241027T010000
END:STANDARD
BEGIN:DAYLIGHT
TZOFFSETFROM:+0000
TZOFFSETTO:+0100
TZNAME:BST
DTSTART:20250330T010000
END:DAYLIGHT
BEGIN:STANDARD
TZOFFSETFROM:+0100
TZOFFSETTO:+0000
TZNAME:GMT
DTSTART:20251026T010000
END:STANDARD
BEGIN:DAYLIGHT
TZOFFSETFROM:+0000
TZOFFSETTO:+0100
TZNAME:BST
DTSTART:20260329T010000
END:DAYLIGHT
BEGIN:STANDARD
TZOFFSETFROM:+0100
TZOFFSETTO:+0000
TZNAME:GMT
DTSTART:20261025T010000
END:STANDARD
END:VTIMEZONE
BEGIN:VEVENT
DTSTART;TZID=Europe/London:20250307T100000
DTEND;TZID=Europe/London:20250412T200000
DTSTAMP:20260424T210935
CREATED:20250227T145908Z
LAST-MODIFIED:20250227T145908Z
UID:11973-1741341600-1744488000@swvg.co.uk
SUMMARY:Wonder Women: 100 Years of Women’s Lives in Redbridge
DESCRIPTION:An exhibition documenting the lives of women in Ilford\, Wanstead and Woodford over the past 100 years.
URL:https://swvg.co.uk/event/wonder-women-100-years-of-womens-lives-in-redbridge/
LOCATION:Redbridge Central Library\, IG1 1EA
END:VEVENT
BEGIN:VEVENT
DTSTART;TZID=Europe/London:20250308T100000
DTEND;TZID=Europe/London:20250308T143000
DTSTAMP:20260424T210935
CREATED:20250227T145923Z
LAST-MODIFIED:20250227T145923Z
UID:11977-1741428000-1741444200@swvg.co.uk
SUMMARY:Ilford Hospital Chapel open day
DESCRIPTION:Memorabilia\, refreshments and guided tours.
URL:https://swvg.co.uk/event/ilford-hospital-chapel-open-day-3/
LOCATION:Hospital Chapel\, Ilford Hill\, IG1 2AT
END:VEVENT
BEGIN:VEVENT
DTSTART;TZID=Europe/London:20250308T103000
DTEND;TZID=Europe/London:20250308T113000
DTSTAMP:20260424T210935
CREATED:20250227T145923Z
LAST-MODIFIED:20250227T145923Z
UID:11978-1741429800-1741433400@swvg.co.uk
SUMMARY:Wanstead Village ward Councillor Surgery
DESCRIPTION:Councillors Jo Blackman\, Paul Donovan and Daniel Morgan-Thomas. Repeated on 22 March.
URL:https://swvg.co.uk/event/wanstead-village-ward-councillor-surgery-7/
LOCATION:Allan Burgess Centre\, High Street\, E11 2AE
END:VEVENT
BEGIN:VEVENT
DTSTART;TZID=Europe/London:20250308T103000
DTEND;TZID=Europe/London:20250308T153000
DTSTAMP:20260424T210935
CREATED:20250227T145923Z
LAST-MODIFIED:20250227T145923Z
UID:11979-1741429800-1741447800@swvg.co.uk
SUMMARY:Vocal workshop - Mozart Requiem
DESCRIPTION:Singing workshop with South West Essex Choir. Led by award-winning conductor Mark Yarrow.
URL:https://swvg.co.uk/event/vocal-workshop-mozart-requiem/
LOCATION:Holy Trinity Church\, Hermon Hill\, E18 1QQ
END:VEVENT
BEGIN:VEVENT
DTSTART;TZID=Europe/London:20250308T193000
DTEND;TZID=Europe/London:20250308T204500
DTSTAMP:20260424T210935
CREATED:20250227T145923Z
LAST-MODIFIED:20250227T145923Z
UID:11980-1741462200-1741466700@swvg.co.uk
SUMMARY:Dolls in Amber Presents: BEARD
DESCRIPTION:A dramedy exploring love\, fear\, queerness and the distorting pressure of the public eye.
URL:https://swvg.co.uk/event/dolls-in-amber-presents-beard/
LOCATION:Redbridge Drama Centre\, E18 2RB
END:VEVENT
END:VCALENDAR