BEGIN:VCALENDAR
VERSION:2.0
PRODID:-//South Woodford Village Gazette - ECPv6.15.20//NONSGML v1.0//EN
CALSCALE:GREGORIAN
METHOD:PUBLISH
X-WR-CALNAME:South Woodford Village Gazette
X-ORIGINAL-URL:https://swvg.co.uk
X-WR-CALDESC:Events for South Woodford Village Gazette
REFRESH-INTERVAL;VALUE=DURATION:PT1H
X-Robots-Tag:noindex
X-PUBLISHED-TTL:PT1H
BEGIN:VTIMEZONE
TZID:Europe/London
BEGIN:DAYLIGHT
TZOFFSETFROM:+0000
TZOFFSETTO:+0100
TZNAME:BST
DTSTART:20240331T010000
END:DAYLIGHT
BEGIN:STANDARD
TZOFFSETFROM:+0100
TZOFFSETTO:+0000
TZNAME:GMT
DTSTART:20241027T010000
END:STANDARD
BEGIN:DAYLIGHT
TZOFFSETFROM:+0000
TZOFFSETTO:+0100
TZNAME:BST
DTSTART:20250330T010000
END:DAYLIGHT
BEGIN:STANDARD
TZOFFSETFROM:+0100
TZOFFSETTO:+0000
TZNAME:GMT
DTSTART:20251026T010000
END:STANDARD
BEGIN:DAYLIGHT
TZOFFSETFROM:+0000
TZOFFSETTO:+0100
TZNAME:BST
DTSTART:20260329T010000
END:DAYLIGHT
BEGIN:STANDARD
TZOFFSETFROM:+0100
TZOFFSETTO:+0000
TZNAME:GMT
DTSTART:20261025T010000
END:STANDARD
END:VTIMEZONE
BEGIN:VEVENT
DTSTART;TZID=Europe/London:20250113T000000
DTEND;TZID=Europe/London:20250201T000000
DTSTAMP:20260423T115929
CREATED:20241217T132056Z
LAST-MODIFIED:20241217T132056Z
UID:11743-1736726400-1738368000@swvg.co.uk
SUMMARY:Art Exhibition: Sir Patrick Spens
DESCRIPTION:Local artist Christopher Thomas will be holding an exhibition of drawings celebrating the ballad Sir Patrick Spens.
URL:https://swvg.co.uk/event/art-exhibition-sir-patrick-spens/
LOCATION:Wanstead Library\, Spratt Hall Road
END:VEVENT
BEGIN:VEVENT
DTSTART;TZID=Europe/London:20250119T110000
DTEND;TZID=Europe/London:20250119T130000
DTSTAMP:20260423T115929
CREATED:20241217T132534Z
LAST-MODIFIED:20241217T132534Z
UID:11767-1737284400-1737291600@swvg.co.uk
SUMMARY:Gardening Session at the Orchard
DESCRIPTION:All welcome.
URL:https://swvg.co.uk/event/gardening-session-at-the-orchard-3/
LOCATION:Community Orchard\, South Woodford
END:VEVENT
BEGIN:VEVENT
DTSTART;TZID=Europe/London:20250119T110000
DTEND;TZID=Europe/London:20250119T170000
DTSTAMP:20260423T115929
CREATED:20241217T132527Z
LAST-MODIFIED:20241217T132529Z
UID:11761-1737284400-1737306000@swvg.co.uk
SUMMARY:South Woodford Community Market
DESCRIPTION:
URL:https://swvg.co.uk/event/south-woodford-community-market-5/
LOCATION:George Lane\, South Woodford
END:VEVENT
BEGIN:VEVENT
DTSTART;TZID=Europe/London:20250119T133000
DTEND;TZID=Europe/London:20250119T133000
DTSTAMP:20260423T115929
CREATED:20241217T132534Z
LAST-MODIFIED:20241217T132534Z
UID:11768-1737293400-1737293400@swvg.co.uk
SUMMARY:A space traveller's guide to exoplanets
DESCRIPTION:Dr John Fisher describes some of the exoplanets within 50 light years of Earth\, demonstrating how unusual and rare our own solar system and planet is. A North East London Astronomical Society event. Free entry for new visitors.
URL:https://swvg.co.uk/event/a-space-travellers-guide-to-exoplanets/
LOCATION:Wanstead House\, 21 The Green\, E11 2NT
END:VEVENT
END:VCALENDAR