BEGIN:VCALENDAR
VERSION:2.0
PRODID:-//South Woodford Village Gazette - ECPv6.15.20//NONSGML v1.0//EN
CALSCALE:GREGORIAN
METHOD:PUBLISH
X-ORIGINAL-URL:https://swvg.co.uk
X-WR-CALDESC:Events for South Woodford Village Gazette
REFRESH-INTERVAL;VALUE=DURATION:PT1H
X-Robots-Tag:noindex
X-PUBLISHED-TTL:PT1H
BEGIN:VTIMEZONE
TZID:Europe/London
BEGIN:DAYLIGHT
TZOFFSETFROM:+0000
TZOFFSETTO:+0100
TZNAME:BST
DTSTART:20240331T010000
END:DAYLIGHT
BEGIN:STANDARD
TZOFFSETFROM:+0100
TZOFFSETTO:+0000
TZNAME:GMT
DTSTART:20241027T010000
END:STANDARD
BEGIN:DAYLIGHT
TZOFFSETFROM:+0000
TZOFFSETTO:+0100
TZNAME:BST
DTSTART:20250330T010000
END:DAYLIGHT
BEGIN:STANDARD
TZOFFSETFROM:+0100
TZOFFSETTO:+0000
TZNAME:GMT
DTSTART:20251026T010000
END:STANDARD
BEGIN:DAYLIGHT
TZOFFSETFROM:+0000
TZOFFSETTO:+0100
TZNAME:BST
DTSTART:20260329T010000
END:DAYLIGHT
BEGIN:STANDARD
TZOFFSETFROM:+0100
TZOFFSETTO:+0000
TZNAME:GMT
DTSTART:20261025T010000
END:STANDARD
END:VTIMEZONE
BEGIN:VEVENT
DTSTART;TZID=Europe/London:20250113T000000
DTEND;TZID=Europe/London:20250201T000000
DTSTAMP:20260423T120016
CREATED:20241217T132056Z
LAST-MODIFIED:20241217T132056Z
UID:11743-1736726400-1738368000@swvg.co.uk
SUMMARY:Art Exhibition: Sir Patrick Spens
DESCRIPTION:Local artist Christopher Thomas will be holding an exhibition of drawings celebrating the ballad Sir Patrick Spens.
URL:https://swvg.co.uk/event/art-exhibition-sir-patrick-spens/
LOCATION:Wanstead Library\, Spratt Hall Road
END:VEVENT
BEGIN:VEVENT
DTSTART;TZID=Europe/London:20250118T100000
DTEND;TZID=Europe/London:20250118T100000
DTSTAMP:20260423T120016
CREATED:20241217T132526Z
LAST-MODIFIED:20241217T132528Z
UID:11757-1737194400-1737194400@swvg.co.uk
SUMMARY:Wanstead Litter Pick
DESCRIPTION:Help keep Wanstead tidy.
URL:https://swvg.co.uk/event/wanstead-litter-pick/
LOCATION:meet at the Woodbine Place bus stop
END:VEVENT
BEGIN:VEVENT
DTSTART;TZID=Europe/London:20250118T100000
DTEND;TZID=Europe/London:20250118T150000
DTSTAMP:20260423T120016
CREATED:20241217T132527Z
LAST-MODIFIED:20241217T132529Z
UID:11758-1737194400-1737212400@swvg.co.uk
SUMMARY:Wanstead Stamp Fair
DESCRIPTION:Including postcards\, cigarette cards\, phone cards and philatelic accessories.
URL:https://swvg.co.uk/event/wanstead-stamp-fair-3/
LOCATION:Our Lady of Lourdes\, E11 2PR
END:VEVENT
BEGIN:VEVENT
DTSTART;TZID=Europe/London:20250118T103000
DTEND;TZID=Europe/London:20250118T163000
DTSTAMP:20260423T120016
CREATED:20241217T132527Z
LAST-MODIFIED:20241217T132529Z
UID:11759-1737196200-1737217800@swvg.co.uk
SUMMARY:Valentine Singers all-day open workshop
DESCRIPTION:Anyone who enjoys choral singing or would like to sample the experience of singing with a large chorus is invited to join Valentine Singers for the day.
URL:https://swvg.co.uk/event/valentine-singers-all-day-open-workshop/
LOCATION:St Mary’s Church\, South Woodford
END:VEVENT
BEGIN:VEVENT
DTSTART;TZID=Europe/London:20250118T190000
DTEND;TZID=Europe/London:20250118T213000
DTSTAMP:20260423T120016
CREATED:20241217T132527Z
LAST-MODIFIED:20241217T132529Z
UID:11760-1737226800-1737235800@swvg.co.uk
SUMMARY:Wren Group New Year Social and Mini-Quiz
DESCRIPTION:Quiz and raffle for members of the Wren Wildlife Group.
URL:https://swvg.co.uk/event/wren-group-new-year-social-and-mini-quiz/
END:VEVENT
END:VCALENDAR