BEGIN:VCALENDAR
VERSION:2.0
PRODID:-//South Woodford Village Gazette - ECPv6.15.20//NONSGML v1.0//EN
CALSCALE:GREGORIAN
METHOD:PUBLISH
X-ORIGINAL-URL:https://swvg.co.uk
X-WR-CALDESC:Events for South Woodford Village Gazette
REFRESH-INTERVAL;VALUE=DURATION:PT1H
X-Robots-Tag:noindex
X-PUBLISHED-TTL:PT1H
BEGIN:VTIMEZONE
TZID:Europe/London
BEGIN:DAYLIGHT
TZOFFSETFROM:+0000
TZOFFSETTO:+0100
TZNAME:BST
DTSTART:20240331T010000
END:DAYLIGHT
BEGIN:STANDARD
TZOFFSETFROM:+0100
TZOFFSETTO:+0000
TZNAME:GMT
DTSTART:20241027T010000
END:STANDARD
BEGIN:DAYLIGHT
TZOFFSETFROM:+0000
TZOFFSETTO:+0100
TZNAME:BST
DTSTART:20250330T010000
END:DAYLIGHT
BEGIN:STANDARD
TZOFFSETFROM:+0100
TZOFFSETTO:+0000
TZNAME:GMT
DTSTART:20251026T010000
END:STANDARD
BEGIN:DAYLIGHT
TZOFFSETFROM:+0000
TZOFFSETTO:+0100
TZNAME:BST
DTSTART:20260329T010000
END:DAYLIGHT
BEGIN:STANDARD
TZOFFSETFROM:+0100
TZOFFSETTO:+0000
TZNAME:GMT
DTSTART:20261025T010000
END:STANDARD
END:VTIMEZONE
BEGIN:VEVENT
DTSTART;TZID=Europe/London:20250113T000000
DTEND;TZID=Europe/London:20250201T000000
DTSTAMP:20260423T120017
CREATED:20241217T132056Z
LAST-MODIFIED:20241217T132056Z
UID:11743-1736726400-1738368000@swvg.co.uk
SUMMARY:Art Exhibition: Sir Patrick Spens
DESCRIPTION:Local artist Christopher Thomas will be holding an exhibition of drawings celebrating the ballad Sir Patrick Spens.
URL:https://swvg.co.uk/event/art-exhibition-sir-patrick-spens/
LOCATION:Wanstead Library\, Spratt Hall Road
END:VEVENT
BEGIN:VEVENT
DTSTART;TZID=Europe/London:20250114T190000
DTEND;TZID=Europe/London:20250114T190000
DTSTAMP:20260423T120017
CREATED:20241217T132056Z
LAST-MODIFIED:20241217T132056Z
UID:11744-1736881200-1736881200@swvg.co.uk
SUMMARY:Keeping it Local Wanstead
DESCRIPTION:An informal gathering for local business owners to socialise and network. Booking required.
URL:https://swvg.co.uk/event/keeping-it-local-wanstead-6/
LOCATION:Must Wine\, 125 High Street\, Wanstead
END:VEVENT
BEGIN:VEVENT
DTSTART;TZID=Europe/London:20250114T193000
DTEND;TZID=Europe/London:20250114T193000
DTSTAMP:20260423T120017
CREATED:20241217T132106Z
LAST-MODIFIED:20241217T132106Z
UID:11746-1736883000-1736883000@swvg.co.uk
SUMMARY:Growing in a Glasshouse
DESCRIPTION:A talk by Shannon Thaden for the Aldersbrook Horticultural Society.
URL:https://swvg.co.uk/event/growing-in-a-glasshouse/
LOCATION:Aldersbrook Bowls Club\, E12 5DY
END:VEVENT
BEGIN:VEVENT
DTSTART;TZID=Europe/London:20250114T200000
DTEND;TZID=Europe/London:20250114T200000
DTSTAMP:20260423T120017
CREATED:20241217T132106Z
LAST-MODIFIED:20241217T132106Z
UID:11747-1736884800-1736884800@swvg.co.uk
SUMMARY:The Rivalry between Leonardo and Michelangelo
DESCRIPTION:A presentation by Dr James Lindow for The Arts Society Woodford Green. Visitors welcome.
URL:https://swvg.co.uk/event/the-rivalry-between-leonardo-and-michelangelo/
LOCATION:Bancroft’s School\, High Road\, IG8 0RF
END:VEVENT
END:VCALENDAR