BEGIN:VCALENDAR
VERSION:2.0
PRODID:-//South Woodford Village Gazette - ECPv6.15.20//NONSGML v1.0//EN
CALSCALE:GREGORIAN
METHOD:PUBLISH
X-ORIGINAL-URL:https://swvg.co.uk
X-WR-CALDESC:Events for South Woodford Village Gazette
REFRESH-INTERVAL;VALUE=DURATION:PT1H
X-Robots-Tag:noindex
X-PUBLISHED-TTL:PT1H
BEGIN:VTIMEZONE
TZID:Europe/London
BEGIN:DAYLIGHT
TZOFFSETFROM:+0000
TZOFFSETTO:+0100
TZNAME:BST
DTSTART:20240331T010000
END:DAYLIGHT
BEGIN:STANDARD
TZOFFSETFROM:+0100
TZOFFSETTO:+0000
TZNAME:GMT
DTSTART:20241027T010000
END:STANDARD
BEGIN:DAYLIGHT
TZOFFSETFROM:+0000
TZOFFSETTO:+0100
TZNAME:BST
DTSTART:20250330T010000
END:DAYLIGHT
BEGIN:STANDARD
TZOFFSETFROM:+0100
TZOFFSETTO:+0000
TZNAME:GMT
DTSTART:20251026T010000
END:STANDARD
BEGIN:DAYLIGHT
TZOFFSETFROM:+0000
TZOFFSETTO:+0100
TZNAME:BST
DTSTART:20260329T010000
END:DAYLIGHT
BEGIN:STANDARD
TZOFFSETFROM:+0100
TZOFFSETTO:+0000
TZNAME:GMT
DTSTART:20261025T010000
END:STANDARD
END:VTIMEZONE
BEGIN:VEVENT
DTSTART;TZID=Europe/London:20250101T000000
DTEND;TZID=Europe/London:20250112T000000
DTSTAMP:20260423T120032
CREATED:20241217T132029Z
LAST-MODIFIED:20241217T132029Z
UID:11720-1735689600-1736640000@swvg.co.uk
SUMMARY:Pantomime: Sleeping Beauty
DESCRIPTION:Woodford Pantomime present their New Year panto.
URL:https://swvg.co.uk/event/pantomime-sleeping-beauty/
LOCATION:Sir James Hawkey Hall\, IG8 0BG
END:VEVENT
BEGIN:VEVENT
DTSTART;TZID=Europe/London:20250109T073000
DTEND;TZID=Europe/London:20250109T090000
DTSTAMP:20260423T120032
CREATED:20241217T132047Z
LAST-MODIFIED:20241217T132047Z
UID:11735-1736407800-1736413200@swvg.co.uk
SUMMARY:Wanstead Business Network
DESCRIPTION:A weekly networking meeting for local business owners. Booking required.
URL:https://swvg.co.uk/event/wanstead-business-network-2/
LOCATION:Wanstead Golf Club\, Overton Drive
END:VEVENT
BEGIN:VEVENT
DTSTART;TZID=Europe/London:20250109T143000
DTEND;TZID=Europe/London:20250109T143000
DTSTAMP:20260423T120032
CREATED:20241217T132047Z
LAST-MODIFIED:20241217T132047Z
UID:11736-1736433000-1736433000@swvg.co.uk
SUMMARY:Novelists who Lived in Redbridge
DESCRIPTION:A talk by Janet Seward for the Woodford Historical Society. Visitors welcome.
URL:https://swvg.co.uk/event/novelists-who-lived-in-redbridge/
LOCATION:All Saints Church Hall\, Woodford Green
END:VEVENT
END:VCALENDAR